BEGIN:VCALENDAR
VERSION:2.0
PRODID:-//MassHire Central Career Centers - ECPv6.15.20//NONSGML v1.0//EN
CALSCALE:GREGORIAN
METHOD:PUBLISH
X-WR-CALNAME:MassHire Central Career Centers
X-ORIGINAL-URL:https://masshirecentralcc.com
X-WR-CALDESC:Events for MassHire Central Career Centers
REFRESH-INTERVAL;VALUE=DURATION:PT1H
X-Robots-Tag:noindex
X-PUBLISHED-TTL:PT1H
BEGIN:VTIMEZONE
TZID:America/New_York
BEGIN:DAYLIGHT
TZOFFSETFROM:-0500
TZOFFSETTO:-0400
TZNAME:EDT
DTSTART:20250309T070000
END:DAYLIGHT
BEGIN:STANDARD
TZOFFSETFROM:-0400
TZOFFSETTO:-0500
TZNAME:EST
DTSTART:20251102T060000
END:STANDARD
BEGIN:DAYLIGHT
TZOFFSETFROM:-0500
TZOFFSETTO:-0400
TZNAME:EDT
DTSTART:20260308T070000
END:DAYLIGHT
BEGIN:STANDARD
TZOFFSETFROM:-0400
TZOFFSETTO:-0500
TZNAME:EST
DTSTART:20261101T060000
END:STANDARD
BEGIN:DAYLIGHT
TZOFFSETFROM:-0500
TZOFFSETTO:-0400
TZNAME:EDT
DTSTART:20270314T070000
END:DAYLIGHT
BEGIN:STANDARD
TZOFFSETFROM:-0400
TZOFFSETTO:-0500
TZNAME:EST
DTSTART:20271107T060000
END:STANDARD
END:VTIMEZONE
BEGIN:VEVENT
DTSTART;TZID=America/New_York:20260803T100000
DTEND;TZID=America/New_York:20260803T113000
DTSTAMP:20260419T122339
CREATED:20260218T175112Z
LAST-MODIFIED:20260218T175112Z
UID:10001055-1785751200-1785756600@masshirecentralcc.com
SUMMARY:Job Search Strategies
DESCRIPTION:
URL:https://masshirecentralcc.com/event/job-search-strategies-16/
LOCATION:Virtual
CATEGORIES:Virtual Workshops
END:VEVENT
BEGIN:VEVENT
DTSTART;TZID=America/New_York:20260804T130000
DTEND;TZID=America/New_York:20260804T140000
DTSTAMP:20260419T122339
CREATED:20260218T175826Z
LAST-MODIFIED:20260218T175826Z
UID:10001086-1785848400-1785852000@masshirecentralcc.com
SUMMARY:Maximize your Maturity (Virtual)
DESCRIPTION:
URL:https://masshirecentralcc.com/event/maximize-your-maturity-virtual-14/
LOCATION:Virtual
CATEGORIES:Virtual Workshops
END:VEVENT
BEGIN:VEVENT
DTSTART;TZID=America/New_York:20260818T100000
DTEND;TZID=America/New_York:20260818T113000
DTSTAMP:20260419T122339
CREATED:20260218T180428Z
LAST-MODIFIED:20260218T180428Z
UID:10001118-1787047200-1787052600@masshirecentralcc.com
SUMMARY:Navigating Career Choices (Virtual)
DESCRIPTION:
URL:https://masshirecentralcc.com/event/navigating-career-choices-virtual-7/
LOCATION:Virtual
CATEGORIES:Virtual Workshops
END:VEVENT
BEGIN:VEVENT
DTSTART;TZID=America/New_York:20260819T100000
DTEND;TZID=America/New_York:20260819T113000
DTSTAMP:20260419T122339
CREATED:20260218T180902Z
LAST-MODIFIED:20260218T180902Z
UID:10001136-1787133600-1787139000@masshirecentralcc.com
SUMMARY:Resume Writing (Virtual)
DESCRIPTION:
URL:https://masshirecentralcc.com/event/resume-writing-virtual-5/
LOCATION:Virtual
CATEGORIES:Virtual Workshops
END:VEVENT
BEGIN:VEVENT
DTSTART;TZID=America/New_York:20260825T100000
DTEND;TZID=America/New_York:20260825T110000
DTSTAMP:20260419T122339
CREATED:20260218T175331Z
LAST-MODIFIED:20260218T175331Z
UID:10001064-1787652000-1787655600@masshirecentralcc.com
SUMMARY:LinkedIn (Virtual)
DESCRIPTION:
URL:https://masshirecentralcc.com/event/linkedin-virtual-8/
LOCATION:Virtual
CATEGORIES:Virtual Workshops
END:VEVENT
BEGIN:VEVENT
DTSTART;TZID=America/New_York:20260826T100000
DTEND;TZID=America/New_York:20260826T110000
DTSTAMP:20260419T122339
CREATED:20260218T175915Z
LAST-MODIFIED:20260218T175915Z
UID:10001087-1787738400-1787742000@masshirecentralcc.com
SUMMARY:Maximize your Maturity (Virtual)
DESCRIPTION:
URL:https://masshirecentralcc.com/event/maximize-your-maturity-virtual-15/
LOCATION:Virtual
CATEGORIES:Virtual Workshops
END:VEVENT
BEGIN:VEVENT
DTSTART;TZID=America/New_York:20260826T100000
DTEND;TZID=America/New_York:20260826T110000
DTSTAMP:20260419T122339
CREATED:20260218T181232Z
LAST-MODIFIED:20260218T181232Z
UID:10001159-1787738400-1787742000@masshirecentralcc.com
SUMMARY:The Interview
DESCRIPTION:
URL:https://masshirecentralcc.com/event/the-interview-18/
LOCATION:Virtual
CATEGORIES:Virtual Workshops
END:VEVENT
END:VCALENDAR