BEGIN:VCALENDAR
VERSION:2.0
PRODID:-//MassHire Central Career Centers - ECPv6.15.20//NONSGML v1.0//EN
CALSCALE:GREGORIAN
METHOD:PUBLISH
X-WR-CALNAME:MassHire Central Career Centers
X-ORIGINAL-URL:https://masshirecentralcc.com
X-WR-CALDESC:Events for MassHire Central Career Centers
REFRESH-INTERVAL;VALUE=DURATION:PT1H
X-Robots-Tag:noindex
X-PUBLISHED-TTL:PT1H
BEGIN:VTIMEZONE
TZID:America/New_York
BEGIN:DAYLIGHT
TZOFFSETFROM:-0500
TZOFFSETTO:-0400
TZNAME:EDT
DTSTART:20250309T070000
END:DAYLIGHT
BEGIN:STANDARD
TZOFFSETFROM:-0400
TZOFFSETTO:-0500
TZNAME:EST
DTSTART:20251102T060000
END:STANDARD
BEGIN:DAYLIGHT
TZOFFSETFROM:-0500
TZOFFSETTO:-0400
TZNAME:EDT
DTSTART:20260308T070000
END:DAYLIGHT
BEGIN:STANDARD
TZOFFSETFROM:-0400
TZOFFSETTO:-0500
TZNAME:EST
DTSTART:20261101T060000
END:STANDARD
BEGIN:DAYLIGHT
TZOFFSETFROM:-0500
TZOFFSETTO:-0400
TZNAME:EDT
DTSTART:20270314T070000
END:DAYLIGHT
BEGIN:STANDARD
TZOFFSETFROM:-0400
TZOFFSETTO:-0500
TZNAME:EST
DTSTART:20271107T060000
END:STANDARD
END:VTIMEZONE
BEGIN:VEVENT
DTSTART;TZID=America/New_York:20261005T100000
DTEND;TZID=America/New_York:20261005T113000
DTSTAMP:20260419T152224
CREATED:20260218T175311Z
LAST-MODIFIED:20260218T175311Z
UID:10001057-1791194400-1791199800@masshirecentralcc.com
SUMMARY:Job Search Strategies
DESCRIPTION:
URL:https://masshirecentralcc.com/event/job-search-strategies-18/
LOCATION:Virtual
CATEGORIES:Virtual Workshops
END:VEVENT
BEGIN:VEVENT
DTSTART;TZID=America/New_York:20261006T130000
DTEND;TZID=America/New_York:20261006T140000
DTSTAMP:20260419T152224
CREATED:20260218T175916Z
LAST-MODIFIED:20260218T175916Z
UID:10001090-1791291600-1791295200@masshirecentralcc.com
SUMMARY:Maximize your Maturity (Virtual)
DESCRIPTION:
URL:https://masshirecentralcc.com/event/maximize-your-maturity-virtual-18/
LOCATION:Virtual
CATEGORIES:Virtual Workshops
END:VEVENT
BEGIN:VEVENT
DTSTART;TZID=America/New_York:20261020T100000
DTEND;TZID=America/New_York:20261020T113000
DTSTAMP:20260419T152224
CREATED:20260218T180428Z
LAST-MODIFIED:20260218T180428Z
UID:10001120-1792490400-1792495800@masshirecentralcc.com
SUMMARY:Navigating Career Choices (Virtual)
DESCRIPTION:
URL:https://masshirecentralcc.com/event/navigating-career-choices-virtual-9/
LOCATION:Virtual
CATEGORIES:Virtual Workshops
END:VEVENT
BEGIN:VEVENT
DTSTART;TZID=America/New_York:20261021T100000
DTEND;TZID=America/New_York:20261021T113000
DTSTAMP:20260419T152224
CREATED:20260218T180916Z
LAST-MODIFIED:20260218T180916Z
UID:10001138-1792576800-1792582200@masshirecentralcc.com
SUMMARY:Resume Writing (Virtual)
DESCRIPTION:
URL:https://masshirecentralcc.com/event/resume-writing-virtual-7/
LOCATION:Virtual
CATEGORIES:Virtual Workshops
END:VEVENT
BEGIN:VEVENT
DTSTART;TZID=America/New_York:20261027T100000
DTEND;TZID=America/New_York:20261027T110000
DTSTAMP:20260419T152224
CREATED:20260218T175331Z
LAST-MODIFIED:20260218T175331Z
UID:10001066-1793095200-1793098800@masshirecentralcc.com
SUMMARY:LinkedIn (Virtual)
DESCRIPTION:
URL:https://masshirecentralcc.com/event/linkedin-virtual-10/
LOCATION:Virtual
CATEGORIES:Virtual Workshops
END:VEVENT
BEGIN:VEVENT
DTSTART;TZID=America/New_York:20261028T100000
DTEND;TZID=America/New_York:20261028T110000
DTSTAMP:20260419T152224
CREATED:20260218T175917Z
LAST-MODIFIED:20260218T175917Z
UID:10001091-1793181600-1793185200@masshirecentralcc.com
SUMMARY:Maximize your Maturity (Virtual)
DESCRIPTION:
URL:https://masshirecentralcc.com/event/maximize-your-maturity-virtual-19/
LOCATION:Virtual
CATEGORIES:Virtual Workshops
END:VEVENT
BEGIN:VEVENT
DTSTART;TZID=America/New_York:20261028T100000
DTEND;TZID=America/New_York:20261028T110000
DTSTAMP:20260419T152224
CREATED:20260218T181233Z
LAST-MODIFIED:20260218T181233Z
UID:10001161-1793181600-1793185200@masshirecentralcc.com
SUMMARY:The Interview
DESCRIPTION:
URL:https://masshirecentralcc.com/event/the-interview-20/
LOCATION:Virtual
CATEGORIES:Virtual Workshops
END:VEVENT
END:VCALENDAR