BEGIN:VCALENDAR
VERSION:2.0
PRODID:-//MassHire Central Career Centers - ECPv6.15.20//NONSGML v1.0//EN
CALSCALE:GREGORIAN
METHOD:PUBLISH
X-WR-CALNAME:MassHire Central Career Centers
X-ORIGINAL-URL:https://masshirecentralcc.com
X-WR-CALDESC:Events for MassHire Central Career Centers
REFRESH-INTERVAL;VALUE=DURATION:PT1H
X-Robots-Tag:noindex
X-PUBLISHED-TTL:PT1H
BEGIN:VTIMEZONE
TZID:America/New_York
BEGIN:DAYLIGHT
TZOFFSETFROM:-0500
TZOFFSETTO:-0400
TZNAME:EDT
DTSTART:20250309T070000
END:DAYLIGHT
BEGIN:STANDARD
TZOFFSETFROM:-0400
TZOFFSETTO:-0500
TZNAME:EST
DTSTART:20251102T060000
END:STANDARD
BEGIN:DAYLIGHT
TZOFFSETFROM:-0500
TZOFFSETTO:-0400
TZNAME:EDT
DTSTART:20260308T070000
END:DAYLIGHT
BEGIN:STANDARD
TZOFFSETFROM:-0400
TZOFFSETTO:-0500
TZNAME:EST
DTSTART:20261101T060000
END:STANDARD
BEGIN:DAYLIGHT
TZOFFSETFROM:-0500
TZOFFSETTO:-0400
TZNAME:EDT
DTSTART:20270314T070000
END:DAYLIGHT
BEGIN:STANDARD
TZOFFSETFROM:-0400
TZOFFSETTO:-0500
TZNAME:EST
DTSTART:20271107T060000
END:STANDARD
END:VTIMEZONE
BEGIN:VEVENT
DTSTART;TZID=America/New_York:20260505T130000
DTEND;TZID=America/New_York:20260505T140000
DTSTAMP:20260420T110703
CREATED:20260218T175623Z
LAST-MODIFIED:20260218T175623Z
UID:10001080-1777986000-1777989600@masshirecentralcc.com
SUMMARY:Maximize your Maturity (Virtual)
DESCRIPTION:
URL:https://masshirecentralcc.com/event/maximize-your-maturity-virtual-8/
LOCATION:Virtual
CATEGORIES:Virtual Workshops
END:VEVENT
BEGIN:VEVENT
DTSTART;TZID=America/New_York:20260505T130000
DTEND;TZID=America/New_York:20260505T140000
DTSTAMP:20260420T110703
CREATED:20260218T175945Z
LAST-MODIFIED:20260218T175945Z
UID:10001098-1777986000-1777989600@masshirecentralcc.com
SUMMARY:Maximize your Maturity
DESCRIPTION:
URL:https://masshirecentralcc.com/event/maximize-your-maturity-41/
LOCATION:Worcester Career Center\, 554 Main Street\, Suite #300\, Worcester\, MA\, 01608\, United States
CATEGORIES:Workshops in Worcester
GEO:42.261156578437;-71.803835963253
X-APPLE-STRUCTURED-LOCATION;VALUE=URI;X-ADDRESS=Worcester Career Center 554 Main Street Suite #300 Worcester MA 01608 United States;X-APPLE-RADIUS=500;X-TITLE=554 Main Street\, Suite #300:geo:-71.803835963253,42.261156578437
END:VEVENT
BEGIN:VEVENT
DTSTART;TZID=America/New_York:20260527T100000
DTEND;TZID=America/New_York:20260527T110000
DTSTAMP:20260420T110703
CREATED:20260218T175624Z
LAST-MODIFIED:20260218T175624Z
UID:10001081-1779876000-1779879600@masshirecentralcc.com
SUMMARY:Maximize your Maturity (Virtual)
DESCRIPTION:
URL:https://masshirecentralcc.com/event/maximize-your-maturity-virtual-9/
LOCATION:Virtual
CATEGORIES:Virtual Workshops
END:VEVENT
BEGIN:VEVENT
DTSTART;TZID=America/New_York:20260527T100000
DTEND;TZID=America/New_York:20260527T110000
DTSTAMP:20260420T110703
CREATED:20260218T175946Z
LAST-MODIFIED:20260218T175946Z
UID:10001099-1779876000-1779879600@masshirecentralcc.com
SUMMARY:Maximize your Maturity
DESCRIPTION:
URL:https://masshirecentralcc.com/event/maximize-your-maturity-42/
LOCATION:Worcester Career Center\, 554 Main Street\, Suite #300\, Worcester\, MA\, 01608\, United States
CATEGORIES:Workshops in Worcester
GEO:42.261156578437;-71.803835963253
X-APPLE-STRUCTURED-LOCATION;VALUE=URI;X-ADDRESS=Worcester Career Center 554 Main Street Suite #300 Worcester MA 01608 United States;X-APPLE-RADIUS=500;X-TITLE=554 Main Street\, Suite #300:geo:-71.803835963253,42.261156578437
END:VEVENT
BEGIN:VEVENT
DTSTART;TZID=America/New_York:20260602T130000
DTEND;TZID=America/New_York:20260602T140000
DTSTAMP:20260420T110703
CREATED:20260218T175824Z
LAST-MODIFIED:20260218T175824Z
UID:10001082-1780405200-1780408800@masshirecentralcc.com
SUMMARY:Maximize your Maturity (Virtual)
DESCRIPTION:
URL:https://masshirecentralcc.com/event/maximize-your-maturity-virtual-10/
LOCATION:Virtual
CATEGORIES:Virtual Workshops
END:VEVENT
BEGIN:VEVENT
DTSTART;TZID=America/New_York:20260602T130000
DTEND;TZID=America/New_York:20260602T140000
DTSTAMP:20260420T110703
CREATED:20260218T175946Z
LAST-MODIFIED:20260218T175946Z
UID:10001100-1780405200-1780408800@masshirecentralcc.com
SUMMARY:Maximize your Maturity
DESCRIPTION:
URL:https://masshirecentralcc.com/event/maximize-your-maturity-43/
LOCATION:Worcester Career Center\, 554 Main Street\, Suite #300\, Worcester\, MA\, 01608\, United States
CATEGORIES:Workshops in Worcester
GEO:42.261156578437;-71.803835963253
X-APPLE-STRUCTURED-LOCATION;VALUE=URI;X-ADDRESS=Worcester Career Center 554 Main Street Suite #300 Worcester MA 01608 United States;X-APPLE-RADIUS=500;X-TITLE=554 Main Street\, Suite #300:geo:-71.803835963253,42.261156578437
END:VEVENT
BEGIN:VEVENT
DTSTART;TZID=America/New_York:20260624T100000
DTEND;TZID=America/New_York:20260624T110000
DTSTAMP:20260420T110703
CREATED:20260218T175825Z
LAST-MODIFIED:20260218T175825Z
UID:10001083-1782295200-1782298800@masshirecentralcc.com
SUMMARY:Maximize your Maturity (Virtual)
DESCRIPTION:
URL:https://masshirecentralcc.com/event/maximize-your-maturity-virtual-11/
LOCATION:Virtual
CATEGORIES:Virtual Workshops
END:VEVENT
BEGIN:VEVENT
DTSTART;TZID=America/New_York:20260624T100000
DTEND;TZID=America/New_York:20260624T110000
DTSTAMP:20260420T110703
CREATED:20260218T175946Z
LAST-MODIFIED:20260218T175946Z
UID:10001101-1782295200-1782298800@masshirecentralcc.com
SUMMARY:Maximize your Maturity
DESCRIPTION:
URL:https://masshirecentralcc.com/event/maximize-your-maturity-44/
LOCATION:Worcester Career Center\, 554 Main Street\, Suite #300\, Worcester\, MA\, 01608\, United States
CATEGORIES:Workshops in Worcester
GEO:42.261156578437;-71.803835963253
X-APPLE-STRUCTURED-LOCATION;VALUE=URI;X-ADDRESS=Worcester Career Center 554 Main Street Suite #300 Worcester MA 01608 United States;X-APPLE-RADIUS=500;X-TITLE=554 Main Street\, Suite #300:geo:-71.803835963253,42.261156578437
END:VEVENT
BEGIN:VEVENT
DTSTART;TZID=America/New_York:20260707T130000
DTEND;TZID=America/New_York:20260707T140000
DTSTAMP:20260420T110703
CREATED:20260218T175825Z
LAST-MODIFIED:20260218T175825Z
UID:10001084-1783429200-1783432800@masshirecentralcc.com
SUMMARY:Maximize your Maturity (Virtual)
DESCRIPTION:
URL:https://masshirecentralcc.com/event/maximize-your-maturity-virtual-12/
LOCATION:Virtual
CATEGORIES:Virtual Workshops
END:VEVENT
BEGIN:VEVENT
DTSTART;TZID=America/New_York:20260707T130000
DTEND;TZID=America/New_York:20260707T140000
DTSTAMP:20260420T110703
CREATED:20260218T180000Z
LAST-MODIFIED:20260218T180000Z
UID:10001102-1783429200-1783432800@masshirecentralcc.com
SUMMARY:Maximize your Maturity
DESCRIPTION:
URL:https://masshirecentralcc.com/event/maximize-your-maturity-45/
LOCATION:Worcester Career Center\, 554 Main Street\, Suite #300\, Worcester\, MA\, 01608\, United States
CATEGORIES:Workshops in Worcester
GEO:42.261156578437;-71.803835963253
X-APPLE-STRUCTURED-LOCATION;VALUE=URI;X-ADDRESS=Worcester Career Center 554 Main Street Suite #300 Worcester MA 01608 United States;X-APPLE-RADIUS=500;X-TITLE=554 Main Street\, Suite #300:geo:-71.803835963253,42.261156578437
END:VEVENT
BEGIN:VEVENT
DTSTART;TZID=America/New_York:20260729T100000
DTEND;TZID=America/New_York:20260729T110000
DTSTAMP:20260420T110703
CREATED:20260218T175825Z
LAST-MODIFIED:20260218T175825Z
UID:10001085-1785319200-1785322800@masshirecentralcc.com
SUMMARY:Maximize your Maturity (Virtual)
DESCRIPTION:
URL:https://masshirecentralcc.com/event/maximize-your-maturity-virtual-13/
LOCATION:Virtual
CATEGORIES:Virtual Workshops
END:VEVENT
BEGIN:VEVENT
DTSTART;TZID=America/New_York:20260729T100000
DTEND;TZID=America/New_York:20260729T110000
DTSTAMP:20260420T110703
CREATED:20260218T180000Z
LAST-MODIFIED:20260218T180000Z
UID:10001103-1785319200-1785322800@masshirecentralcc.com
SUMMARY:Maximize your Maturity
DESCRIPTION:
URL:https://masshirecentralcc.com/event/maximize-your-maturity-46/
LOCATION:Worcester Career Center\, 554 Main Street\, Suite #300\, Worcester\, MA\, 01608\, United States
CATEGORIES:Workshops in Worcester
GEO:42.261156578437;-71.803835963253
X-APPLE-STRUCTURED-LOCATION;VALUE=URI;X-ADDRESS=Worcester Career Center 554 Main Street Suite #300 Worcester MA 01608 United States;X-APPLE-RADIUS=500;X-TITLE=554 Main Street\, Suite #300:geo:-71.803835963253,42.261156578437
END:VEVENT
BEGIN:VEVENT
DTSTART;TZID=America/New_York:20260804T130000
DTEND;TZID=America/New_York:20260804T140000
DTSTAMP:20260420T110703
CREATED:20260218T175826Z
LAST-MODIFIED:20260218T175826Z
UID:10001086-1785848400-1785852000@masshirecentralcc.com
SUMMARY:Maximize your Maturity (Virtual)
DESCRIPTION:
URL:https://masshirecentralcc.com/event/maximize-your-maturity-virtual-14/
LOCATION:Virtual
CATEGORIES:Virtual Workshops
END:VEVENT
BEGIN:VEVENT
DTSTART;TZID=America/New_York:20260804T130000
DTEND;TZID=America/New_York:20260804T140000
DTSTAMP:20260420T110703
CREATED:20260218T180001Z
LAST-MODIFIED:20260218T180001Z
UID:10001104-1785848400-1785852000@masshirecentralcc.com
SUMMARY:Maximize your Maturity
DESCRIPTION:
URL:https://masshirecentralcc.com/event/maximize-your-maturity-47/
LOCATION:Worcester Career Center\, 554 Main Street\, Suite #300\, Worcester\, MA\, 01608\, United States
CATEGORIES:Workshops in Worcester
GEO:42.261156578437;-71.803835963253
X-APPLE-STRUCTURED-LOCATION;VALUE=URI;X-ADDRESS=Worcester Career Center 554 Main Street Suite #300 Worcester MA 01608 United States;X-APPLE-RADIUS=500;X-TITLE=554 Main Street\, Suite #300:geo:-71.803835963253,42.261156578437
END:VEVENT
BEGIN:VEVENT
DTSTART;TZID=America/New_York:20260826T100000
DTEND;TZID=America/New_York:20260826T110000
DTSTAMP:20260420T110703
CREATED:20260218T175915Z
LAST-MODIFIED:20260218T175915Z
UID:10001087-1787738400-1787742000@masshirecentralcc.com
SUMMARY:Maximize your Maturity (Virtual)
DESCRIPTION:
URL:https://masshirecentralcc.com/event/maximize-your-maturity-virtual-15/
LOCATION:Virtual
CATEGORIES:Virtual Workshops
END:VEVENT
BEGIN:VEVENT
DTSTART;TZID=America/New_York:20260826T100000
DTEND;TZID=America/New_York:20260826T110000
DTSTAMP:20260420T110703
CREATED:20260218T180001Z
LAST-MODIFIED:20260218T180001Z
UID:10001105-1787738400-1787742000@masshirecentralcc.com
SUMMARY:Maximize your Maturity
DESCRIPTION:
URL:https://masshirecentralcc.com/event/maximize-your-maturity-48/
LOCATION:Worcester Career Center\, 554 Main Street\, Suite #300\, Worcester\, MA\, 01608\, United States
CATEGORIES:Workshops in Worcester
GEO:42.261156578437;-71.803835963253
X-APPLE-STRUCTURED-LOCATION;VALUE=URI;X-ADDRESS=Worcester Career Center 554 Main Street Suite #300 Worcester MA 01608 United States;X-APPLE-RADIUS=500;X-TITLE=554 Main Street\, Suite #300:geo:-71.803835963253,42.261156578437
END:VEVENT
BEGIN:VEVENT
DTSTART;TZID=America/New_York:20260901T130000
DTEND;TZID=America/New_York:20260901T140000
DTSTAMP:20260420T110703
CREATED:20260218T175915Z
LAST-MODIFIED:20260218T175915Z
UID:10001088-1788267600-1788271200@masshirecentralcc.com
SUMMARY:Maximize your Maturity (Virtual)
DESCRIPTION:
URL:https://masshirecentralcc.com/event/maximize-your-maturity-virtual-16/
LOCATION:Virtual
CATEGORIES:Virtual Workshops
END:VEVENT
BEGIN:VEVENT
DTSTART;TZID=America/New_York:20260901T130000
DTEND;TZID=America/New_York:20260901T140000
DTSTAMP:20260420T110703
CREATED:20260218T180001Z
LAST-MODIFIED:20260218T180001Z
UID:10001106-1788267600-1788271200@masshirecentralcc.com
SUMMARY:Maximize your Maturity
DESCRIPTION:
URL:https://masshirecentralcc.com/event/maximize-your-maturity-49/
LOCATION:Worcester Career Center\, 554 Main Street\, Suite #300\, Worcester\, MA\, 01608\, United States
CATEGORIES:Workshops in Worcester
GEO:42.261156578437;-71.803835963253
X-APPLE-STRUCTURED-LOCATION;VALUE=URI;X-ADDRESS=Worcester Career Center 554 Main Street Suite #300 Worcester MA 01608 United States;X-APPLE-RADIUS=500;X-TITLE=554 Main Street\, Suite #300:geo:-71.803835963253,42.261156578437
END:VEVENT
BEGIN:VEVENT
DTSTART;TZID=America/New_York:20260930T100000
DTEND;TZID=America/New_York:20260930T110000
DTSTAMP:20260420T110703
CREATED:20260218T175916Z
LAST-MODIFIED:20260218T175916Z
UID:10001089-1790762400-1790766000@masshirecentralcc.com
SUMMARY:Maximize your Maturity (Virtual)
DESCRIPTION:
URL:https://masshirecentralcc.com/event/maximize-your-maturity-virtual-17/
LOCATION:Virtual
CATEGORIES:Virtual Workshops
END:VEVENT
BEGIN:VEVENT
DTSTART;TZID=America/New_York:20260930T100000
DTEND;TZID=America/New_York:20260930T110000
DTSTAMP:20260420T110703
CREATED:20260218T180200Z
LAST-MODIFIED:20260218T180200Z
UID:10001107-1790762400-1790766000@masshirecentralcc.com
SUMMARY:Maximize your Maturity
DESCRIPTION:
URL:https://masshirecentralcc.com/event/maximize-your-maturity-50/
LOCATION:Worcester Career Center\, 554 Main Street\, Suite #300\, Worcester\, MA\, 01608\, United States
CATEGORIES:Workshops in Worcester
GEO:42.261156578437;-71.803835963253
X-APPLE-STRUCTURED-LOCATION;VALUE=URI;X-ADDRESS=Worcester Career Center 554 Main Street Suite #300 Worcester MA 01608 United States;X-APPLE-RADIUS=500;X-TITLE=554 Main Street\, Suite #300:geo:-71.803835963253,42.261156578437
END:VEVENT
BEGIN:VEVENT
DTSTART;TZID=America/New_York:20261006T130000
DTEND;TZID=America/New_York:20261006T140000
DTSTAMP:20260420T110703
CREATED:20260218T175916Z
LAST-MODIFIED:20260218T175916Z
UID:10001090-1791291600-1791295200@masshirecentralcc.com
SUMMARY:Maximize your Maturity (Virtual)
DESCRIPTION:
URL:https://masshirecentralcc.com/event/maximize-your-maturity-virtual-18/
LOCATION:Virtual
CATEGORIES:Virtual Workshops
END:VEVENT
BEGIN:VEVENT
DTSTART;TZID=America/New_York:20261006T130000
DTEND;TZID=America/New_York:20261006T140000
DTSTAMP:20260420T110703
CREATED:20260218T180200Z
LAST-MODIFIED:20260218T180200Z
UID:10001108-1791291600-1791295200@masshirecentralcc.com
SUMMARY:Maximize your Maturity
DESCRIPTION:
URL:https://masshirecentralcc.com/event/maximize-your-maturity-51/
LOCATION:Worcester Career Center\, 554 Main Street\, Suite #300\, Worcester\, MA\, 01608\, United States
CATEGORIES:Workshops in Worcester
GEO:42.261156578437;-71.803835963253
X-APPLE-STRUCTURED-LOCATION;VALUE=URI;X-ADDRESS=Worcester Career Center 554 Main Street Suite #300 Worcester MA 01608 United States;X-APPLE-RADIUS=500;X-TITLE=554 Main Street\, Suite #300:geo:-71.803835963253,42.261156578437
END:VEVENT
BEGIN:VEVENT
DTSTART;TZID=America/New_York:20261028T100000
DTEND;TZID=America/New_York:20261028T110000
DTSTAMP:20260420T110703
CREATED:20260218T175917Z
LAST-MODIFIED:20260218T175917Z
UID:10001091-1793181600-1793185200@masshirecentralcc.com
SUMMARY:Maximize your Maturity (Virtual)
DESCRIPTION:
URL:https://masshirecentralcc.com/event/maximize-your-maturity-virtual-19/
LOCATION:Virtual
CATEGORIES:Virtual Workshops
END:VEVENT
BEGIN:VEVENT
DTSTART;TZID=America/New_York:20261028T100000
DTEND;TZID=America/New_York:20261028T110000
DTSTAMP:20260420T110703
CREATED:20260218T180201Z
LAST-MODIFIED:20260218T180201Z
UID:10001109-1793181600-1793185200@masshirecentralcc.com
SUMMARY:Maximize your Maturity
DESCRIPTION:
URL:https://masshirecentralcc.com/event/maximize-your-maturity-52/
LOCATION:Worcester Career Center\, 554 Main Street\, Suite #300\, Worcester\, MA\, 01608\, United States
CATEGORIES:Workshops in Worcester
GEO:42.261156578437;-71.803835963253
X-APPLE-STRUCTURED-LOCATION;VALUE=URI;X-ADDRESS=Worcester Career Center 554 Main Street Suite #300 Worcester MA 01608 United States;X-APPLE-RADIUS=500;X-TITLE=554 Main Street\, Suite #300:geo:-71.803835963253,42.261156578437
END:VEVENT
BEGIN:VEVENT
DTSTART;TZID=America/New_York:20261103T130000
DTEND;TZID=America/New_York:20261103T140000
DTSTAMP:20260420T110703
CREATED:20260218T175930Z
LAST-MODIFIED:20260218T175930Z
UID:10001092-1793710800-1793714400@masshirecentralcc.com
SUMMARY:Maximize your Maturity (Virtual)
DESCRIPTION:
URL:https://masshirecentralcc.com/event/maximize-your-maturity-virtual-20/
LOCATION:Virtual
CATEGORIES:Virtual Workshops
END:VEVENT
BEGIN:VEVENT
DTSTART;TZID=America/New_York:20261103T130000
DTEND;TZID=America/New_York:20261103T140000
DTSTAMP:20260420T110703
CREATED:20260218T180201Z
LAST-MODIFIED:20260218T180201Z
UID:10001110-1793710800-1793714400@masshirecentralcc.com
SUMMARY:Maximize your Maturity
DESCRIPTION:
URL:https://masshirecentralcc.com/event/maximize-your-maturity-53/
LOCATION:Worcester Career Center\, 554 Main Street\, Suite #300\, Worcester\, MA\, 01608\, United States
CATEGORIES:Workshops in Worcester
GEO:42.261156578437;-71.803835963253
X-APPLE-STRUCTURED-LOCATION;VALUE=URI;X-ADDRESS=Worcester Career Center 554 Main Street Suite #300 Worcester MA 01608 United States;X-APPLE-RADIUS=500;X-TITLE=554 Main Street\, Suite #300:geo:-71.803835963253,42.261156578437
END:VEVENT
BEGIN:VEVENT
DTSTART;TZID=America/New_York:20261125T100000
DTEND;TZID=America/New_York:20261125T110000
DTSTAMP:20260420T110703
CREATED:20260218T175930Z
LAST-MODIFIED:20260218T175930Z
UID:10001093-1795600800-1795604400@masshirecentralcc.com
SUMMARY:Maximize your Maturity (Virtual)
DESCRIPTION:
URL:https://masshirecentralcc.com/event/maximize-your-maturity-virtual-21/
LOCATION:Virtual
CATEGORIES:Virtual Workshops
END:VEVENT
BEGIN:VEVENT
DTSTART;TZID=America/New_York:20261125T100000
DTEND;TZID=America/New_York:20261125T110000
DTSTAMP:20260420T110703
CREATED:20260218T180202Z
LAST-MODIFIED:20260218T180202Z
UID:10001111-1795600800-1795604400@masshirecentralcc.com
SUMMARY:Maximize your Maturity
DESCRIPTION:
URL:https://masshirecentralcc.com/event/maximize-your-maturity-54/
LOCATION:Worcester Career Center\, 554 Main Street\, Suite #300\, Worcester\, MA\, 01608\, United States
CATEGORIES:Workshops in Worcester
GEO:42.261156578437;-71.803835963253
X-APPLE-STRUCTURED-LOCATION;VALUE=URI;X-ADDRESS=Worcester Career Center 554 Main Street Suite #300 Worcester MA 01608 United States;X-APPLE-RADIUS=500;X-TITLE=554 Main Street\, Suite #300:geo:-71.803835963253,42.261156578437
END:VEVENT
BEGIN:VEVENT
DTSTART;TZID=America/New_York:20261201T130000
DTEND;TZID=America/New_York:20261201T140000
DTSTAMP:20260420T110703
CREATED:20260218T175930Z
LAST-MODIFIED:20260218T175930Z
UID:10001094-1796130000-1796133600@masshirecentralcc.com
SUMMARY:Maximize your Maturity (Virtual)
DESCRIPTION:
URL:https://masshirecentralcc.com/event/maximize-your-maturity-virtual-22/
LOCATION:Virtual
CATEGORIES:Virtual Workshops
END:VEVENT
BEGIN:VEVENT
DTSTART;TZID=America/New_York:20261201T130000
DTEND;TZID=America/New_York:20261201T140000
DTSTAMP:20260420T110703
CREATED:20260218T180227Z
LAST-MODIFIED:20260218T180227Z
UID:10001112-1796130000-1796133600@masshirecentralcc.com
SUMMARY:Maximize your Maturity
DESCRIPTION:
URL:https://masshirecentralcc.com/event/maximize-your-maturity-55/
LOCATION:Worcester Career Center\, 554 Main Street\, Suite #300\, Worcester\, MA\, 01608\, United States
CATEGORIES:Workshops in Worcester
GEO:42.261156578437;-71.803835963253
X-APPLE-STRUCTURED-LOCATION;VALUE=URI;X-ADDRESS=Worcester Career Center 554 Main Street Suite #300 Worcester MA 01608 United States;X-APPLE-RADIUS=500;X-TITLE=554 Main Street\, Suite #300:geo:-71.803835963253,42.261156578437
END:VEVENT
END:VCALENDAR