BEGIN:VCALENDAR
VERSION:2.0
PRODID:-//MassHire Central Career Centers - ECPv6.15.20//NONSGML v1.0//EN
CALSCALE:GREGORIAN
METHOD:PUBLISH
X-WR-CALNAME:MassHire Central Career Centers
X-ORIGINAL-URL:https://masshirecentralcc.com
X-WR-CALDESC:Events for MassHire Central Career Centers
REFRESH-INTERVAL;VALUE=DURATION:PT1H
X-Robots-Tag:noindex
X-PUBLISHED-TTL:PT1H
BEGIN:VTIMEZONE
TZID:America/New_York
BEGIN:DAYLIGHT
TZOFFSETFROM:-0500
TZOFFSETTO:-0400
TZNAME:EDT
DTSTART:20250309T070000
END:DAYLIGHT
BEGIN:STANDARD
TZOFFSETFROM:-0400
TZOFFSETTO:-0500
TZNAME:EST
DTSTART:20251102T060000
END:STANDARD
BEGIN:DAYLIGHT
TZOFFSETFROM:-0500
TZOFFSETTO:-0400
TZNAME:EDT
DTSTART:20260308T070000
END:DAYLIGHT
BEGIN:STANDARD
TZOFFSETFROM:-0400
TZOFFSETTO:-0500
TZNAME:EST
DTSTART:20261101T060000
END:STANDARD
BEGIN:DAYLIGHT
TZOFFSETFROM:-0500
TZOFFSETTO:-0400
TZNAME:EDT
DTSTART:20270314T070000
END:DAYLIGHT
BEGIN:STANDARD
TZOFFSETFROM:-0400
TZOFFSETTO:-0500
TZNAME:EST
DTSTART:20271107T060000
END:STANDARD
END:VTIMEZONE
BEGIN:VEVENT
DTSTART;TZID=America/New_York:20260429T100000
DTEND;TZID=America/New_York:20260429T110000
DTSTAMP:20260420T080149
CREATED:20260218T175623Z
LAST-MODIFIED:20260218T175623Z
UID:10001079-1777456800-1777460400@masshirecentralcc.com
SUMMARY:Maximize your Maturity (Virtual)
DESCRIPTION:
URL:https://masshirecentralcc.com/event/maximize-your-maturity-virtual-7/
LOCATION:Virtual
CATEGORIES:Virtual Workshops
END:VEVENT
BEGIN:VEVENT
DTSTART;TZID=America/New_York:20260429T100000
DTEND;TZID=America/New_York:20260429T110000
DTSTAMP:20260420T080149
CREATED:20260218T175945Z
LAST-MODIFIED:20260218T175945Z
UID:10001097-1777456800-1777460400@masshirecentralcc.com
SUMMARY:Maximize your Maturity
DESCRIPTION:
URL:https://masshirecentralcc.com/event/maximize-your-maturity-40/
LOCATION:Worcester Career Center\, 554 Main Street\, Suite #300\, Worcester\, MA\, 01608\, United States
CATEGORIES:Workshops in Worcester
GEO:42.261156578437;-71.803835963253
X-APPLE-STRUCTURED-LOCATION;VALUE=URI;X-ADDRESS=Worcester Career Center 554 Main Street Suite #300 Worcester MA 01608 United States;X-APPLE-RADIUS=500;X-TITLE=554 Main Street\, Suite #300:geo:-71.803835963253,42.261156578437
END:VEVENT
END:VCALENDAR